BEGIN:VCALENDAR
VERSION:2.0
PRODID:-//Southern Utah Wilderness Alliance - ECPv6.15.20//NONSGML v1.0//EN
CALSCALE:GREGORIAN
METHOD:PUBLISH
X-ORIGINAL-URL:https://suwa.org
X-WR-CALDESC:Events for Southern Utah Wilderness Alliance
REFRESH-INTERVAL;VALUE=DURATION:PT1H
X-Robots-Tag:noindex
X-PUBLISHED-TTL:PT1H
BEGIN:VTIMEZONE
TZID:America/Denver
BEGIN:DAYLIGHT
TZOFFSETFROM:-0700
TZOFFSETTO:-0600
TZNAME:MDT
DTSTART:20230312T090000
END:DAYLIGHT
BEGIN:STANDARD
TZOFFSETFROM:-0600
TZOFFSETTO:-0700
TZNAME:MST
DTSTART:20231105T080000
END:STANDARD
BEGIN:DAYLIGHT
TZOFFSETFROM:-0700
TZOFFSETTO:-0600
TZNAME:MDT
DTSTART:20240310T090000
END:DAYLIGHT
BEGIN:STANDARD
TZOFFSETFROM:-0600
TZOFFSETTO:-0700
TZNAME:MST
DTSTART:20241103T080000
END:STANDARD
BEGIN:DAYLIGHT
TZOFFSETFROM:-0700
TZOFFSETTO:-0600
TZNAME:MDT
DTSTART:20250309T090000
END:DAYLIGHT
BEGIN:STANDARD
TZOFFSETFROM:-0600
TZOFFSETTO:-0700
TZNAME:MST
DTSTART:20251102T080000
END:STANDARD
END:VTIMEZONE
BEGIN:VEVENT
DTSTART;VALUE=DATE:20240604
DTEND;VALUE=DATE:20240608
DTSTAMP:20260420T020819
CREATED:20240118T202830Z
LAST-MODIFIED:20240319T185526Z
UID:18413-1717459200-1717804799@suwa.org
SUMMARY:Bears Ears Region 1 - FULL
DESCRIPTION:The Land \nWith the designation of Bears Ears National Monument on December 28th\, 2016\, a new layer of protection was granted to some of the most spectacular places in southern Utah. There is Cedar Mesa\, with its incredible canyons running toward the San Juan River. There is White Canyon to the west of Natural Bridges. There are the Bears Ears themselves and the high ponderosa forests of Elk Ridge. To the north there’s Beef Basin and Indian Creek. Nearly 100\,000 archaeological and cultural sites were covered by the proclamation\, with protections afforded to a historied landscape long-neglected and actively undermined by private interests. \n\nThe Work \nWe are returning to Cedar Mesa to work with the BLM Monticello on recreation impact restoration projects. Work tasks will vary by need and are slated to include: remediating impacts caused by nonpermitted ORV travel using manual tools and strategies use as dead planting and vertical mulch.  If needed\, signs and other infrastructure will be installed to further manage travel. \nVolunteers Needed: (8)\nProject Lead: Talitha McGuire\nContact: talitha@suwa.org \n\nItinerary\nA comprehensive itinerary will be provided to registered volunteers. \n\nTue Jun 4 – Fri Jun 7\n\n\nProject Rating  \nLevel 2 – Our most common trip incorporates mid- to heavy-lifting\, work in remote landscapes at varying elevations\, an increased diversity of tool use\, and an emphasis on physical fitness and hiking competency. \n\nCamping & Meals \nSpecific location of camping site(s) will be provided in the Welcome Letter sent to registered volunteers. \nSUWA provides select meals\, snacks and drinks during the project. Volunteers are responsible for all additional meals not specified in the Welcome Letter during their stay. \n\nVolunteer Responsibilities \nParticipants are responsible for their own food\, water and camping gear as well as transportation to and from the project site(s). Volunteers should plan to be away from camp all day each of the work days. A recommended pack list will be sent along with the project Welcome Letter  (4) weeks prior to the start date. \n\nRegistration & Acceptance Timeline \nA 2024 General Volunteer Application is required for this project. \n \n\nWhen we have received your form\, you will receive a confirmation e-mail within (5) working days of submission.\nIn order to ensure participation by the most diverse applicants\, we log all applications until (8) weeks prior to the project. At this point\, you will first receive a call from our stewardship team to further discuss the project.\nFollowing this call\, you will receive an e-mail confirming whether you have been placed on the “project roster” or a “waiting list.”\nIf you are selected for the project roster\, you will then complete a Volunteer Agreement.\nIndividuals on the Waitlist List will be contacted if space opens due to cancellation within (2) weeks of the project start date.\nAt (4) weeks before the project start date\, registered and confirmed participants will receive a Welcome Letter\, with a comprehensive itinerary\, including: driving instructions\, a Project Map for mobile devices (when applicable)\, a notification about carpools and/or caravans\, and any additional information pertinent to the project.\nWithin (2) weeks of the project you will receive a direct call from our stewardship coordinator to answer any additional questions you may have.\n\nIf you have any questions at any point throughout the process\, please do not hesitate to contact us here or by calling  (435) 259-9151. \nAPPLY NOW
URL:https://suwa.org/events/bears-ears-region-i/
CATEGORIES:Stewardship Project
ATTACH;FMTTYPE=image/jpeg:https://suwa.org/wp-content/uploads/fo2.jpg
END:VEVENT
BEGIN:VEVENT
DTSTART;VALUE=DATE:20240613
DTEND;VALUE=DATE:20240617
DTSTAMP:20260420T020819
CREATED:20240125T193508Z
LAST-MODIFIED:20240425T192935Z
UID:18478-1718236800-1718582399@suwa.org
SUMMARY:West Desert WSAs 1 - Waiting List
DESCRIPTION:The Land \nUtah’s West Desert is a remote\, sprawling collection of magnificent landscapes containing a series of distinctive “island” ranges including the Deep Creek Mountains\, the House Range\, the Wah-Wahs\, Notch Peak\, and more. Spanning several counties and hundreds of miles of remote roads\, many of the regions spectacular features are protected as wilderness study areas (WSAs) and managed by the local BLM. Limited resources and expansive territory combine for a particular need to recruit volunteers to ensure proper monitoring and maintenance of the West Desert’s diverse and unique landscapes. \n\nThe Work \nOur crew will travel far and wide across the West Desert assessing off-road vehicle travel and camping compliance at a series of sites in select wilderness study areas\, remediating where appropriate. We will install needed signage and managing off-road vehicle travel. Work tasks will vary by need\, and are slated to include: assembling (with hardware) posts and signs; hoisting and leveling mid-weight to heavy materials; the use of manual tools such as rakes\, picks and shovels; team-moving of boulders and other large natural debris. \n\n*Further details and WSA locations to be specified after March 15th \n\nVolunteers Needed: (8)\nProject Lead: Talitha McGuire\nContact: talitha@suwa.org \n\nItinerary\nA comprehensive itinerary will be provided to registered volunteers. \n\nThu Jun 13 – Sun Jun 16\n\n\nProject Rating  \nLevel 2 – Our most common trip incorporates mid- to heavy-lifting\, work in remote landscapes at varying elevations\, an increased diversity of tool use\, and an emphasis on physical fitness and hiking competency. \nCamping & Meals \nSpecific location of camping site(s) will be provided in the Welcome Letter sent to registered volunteers. \nSUWA provides select meals\, snacks and drinks during the project. Volunteers are responsible for all additional meals not specified in the Welcome Letter during their stay. \nVolunteer Responsibilities \nParticipants are responsible for their own food\, water and camping gear as well as transportation to and from the project site(s). Volunteers should plan to be away from camp all day each of the work days. A recommended pack list will be sent along with the project Welcome Letter  (4) weeks prior to the start date. \n\nRegistration & Acceptance Timeline \nA 2024 General Volunteer Application is required for this project. \n\nWhen we have received your form\, you will receive a confirmation e-mail within (5) working days of submission.\nIn order to ensure participation by the most diverse applicants\, we log all applications until (8) weeks prior to the project. At this point\, you will first receive a call from our stewardship team to further discuss the project.\nFollowing this call\, you will receive an e-mail confirming whether you have been placed on the “project roster” or a “waiting list.”\nIf you are selected for the project roster\, you will then complete a Volunteer Agreement.\nIndividuals on the Waitlist List will be contacted if space opens due to cancellation within (2) weeks of the project start date.\nAt (4) weeks before the project start date\, registered and confirmed participants will receive a Welcome Letter\, with a comprehensive itinerary\, including: driving instructions\, a Project Map for mobile devices (when applicable)\, a notification about carpools and/or caravans\, and any additional information pertinent to the project.\nWithin (2) weeks of the project you will receive a direct call from our stewardship coordinator to answer any additional questions you may have.\n\nIf you have any questions at any point throughout the process\, please do not hesitate to contact us here or by calling  (435) 259-9151. \nAPPLY NOW
URL:https://suwa.org/events/west-desert-i-2/
CATEGORIES:Stewardship Project
ATTACH;FMTTYPE=image/jpeg:https://suwa.org/wp-content/uploads/NotchPeak.jpg
END:VEVENT
BEGIN:VEVENT
DTSTART;VALUE=DATE:20240625
DTEND;VALUE=DATE:20240629
DTSTAMP:20260420T020819
CREATED:20240118T203044Z
LAST-MODIFIED:20240425T193006Z
UID:18414-1719273600-1719619199@suwa.org
SUMMARY:La Sal Mountains - FULL
DESCRIPTION:The Land \nThe Manti-La Sal National Forest covers more than 1.2 million acres (4\,900 km2) and is located in the central and southeastern parts of Utah and the extreme western part of Colorado. The La Sal Mountains are located south/southeast of Moab\, Utah in Grand and San Juan Counties. The name of the range dates to Spanish times\, when the Sierra La Sal (meaning the “Salt Mountains”) were a prominent landmark on the Old Spanish Trail between Santa Fe and Los Angeles. The range is currently in renewed management planning. Recent decades have seen a sharp uptick in recreational use of the La Sal Mountains throughout four seasons. While winter activities remain limited due to high incident of avalanche\, motorized and mechanized travel in the range during all other seasons is rapidly increasing. \n\nThe Work \nWe are returning to the La Sal Mountains to continue our work with the Forest Service managing for the impacts of increased motorized and mechanized travel in the region. We will remediate the impacts of non-permitted travel and camping\, among other tasks. \nOur Objective: To ensure travel compliance in the range in order to protect natural and cultural resources. \nVolunteers Needed: (8)\nProject Lead: Talitha McGuire\nContact: talitha@suwa.org \n  \n\nItinerary\nA comprehensive itinerary will be provided to registered volunteers. \n\nTue Jun 25 – Fri Jun 28\n\n\nProject Rating  \nLevel 2 – Our most common trip incorporates mid- to heavy-lifting\, work in remote landscapes at varying elevations\, an increased diversity of tool use\, and an emphasis on physical fitness and hiking competency. \n\nCamping & Meals \nSpecific location of camping site(s) will be provided in the Welcome Letter sent to registered volunteers. \nSUWA provides select meals\, snacks and drinks during the project. Volunteers are responsible for all additional meals not specified in the Welcome Letter during their stay. \n\nVolunteer Responsibilities \nParticipants are responsible for their own food\, water and camping gear as well as transportation to and from the project site(s). Volunteers should plan to be away from camp all day each of the work days. A recommended pack list will be sent along with the project Welcome Letter  (4) weeks prior to the start date. \n\nRegistration & Acceptance Timeline \nA 2024 General Volunteer Application is required for this project. \n \n\nWhen we have received your form\, you will receive a confirmation e-mail within (5) working days of submission.\nIn order to ensure participation by the most diverse applicants\, we log all applications until (8) weeks prior to the project. At this point\, you will first receive a call from our stewardship team to further discuss the project.\nFollowing this call\, you will receive an e-mail confirming whether you have been placed on the “project roster” or a “waiting list.”\nIf you are selected for the project roster\, you will then complete a Volunteer Agreement.\nIndividuals on the Waitlist List will be contacted if space opens due to cancellation within (2) weeks of the project start date.\nAt (4) weeks before the project start date\, registered and confirmed participants will receive a Welcome Letter\, with a comprehensive itinerary\, including: driving instructions\, a Project Map for mobile devices (when applicable)\, a notification about carpools and/or caravans\, and any additional information pertinent to the project.\nWithin (2) weeks of the project you will receive a direct call from our stewardship coordinator to answer any additional questions you may have.\n\nIf you have any questions at any point throughout the process\, please do not hesitate to contact us here or by calling  (435) 259-9151. \nAPPLY NOW
URL:https://suwa.org/events/la-sal-mountains-3/
CATEGORIES:Stewardship Project
ATTACH;FMTTYPE=image/png:https://suwa.org/wp-content/uploads/Screenshot-2024-01-23-at-11.04.45 AM.png
END:VEVENT
END:VCALENDAR